0.00001299999985
0.00000000000000
0.00000000000000
-0.00000999999975
-119.94285564000354
36.20462844993108
