0.00001299999985
0.00000000000000
0.00000000000000
-0.00000999999975
-119.95169257998535
36.21197942997474
