0.00001299999985
0.00000000000000
0.00000000000000
-0.00000999999975
-119.95174652998534
36.21205905997474
