0.00001299999985
0.00000000000000
0.00000000000000
-0.00000999999975
-119.95184707000354
36.21206146993108
