0.00001299999985
0.00000000000000
0.00000000000000
-0.00000999999975
-119.95184599998535
36.21205999997474
