0.00001299999985
0.00000000000000
0.00000000000000
-0.00000999999975
-119.95185200000354
36.21205999993109
