0.00001299999985
0.00000000000000
0.00000000000000
-0.00000999999975
-119.96085750998535
36.21939319997474
