0.00001299999985
0.00000000000000
0.00000000000000
-0.00000999999975
-119.96090000000353
36.21939999993109
