0.00001299999985
0.00000000000000
0.00000000000000
-0.00000999999975
-119.96058942998535
36.21919200997474
