0.00001299999985
0.00000000000000
0.00000000000000
-0.00000999999975
-119.96059389000354
36.21920115993108
