0.00001299999985
0.00000000000000
0.00000000000000
-0.00000999999975
-119.95195079998535
36.22795870997474
