0.00001299999985
0.00000000000000
0.00000000000000
-0.00000999999975
-119.95184584998535
36.22805211997474
