0.00001299999985
0.00000000000000
0.00000000000000
-0.00000999999975
-119.95170400000355
36.22791999993108
