0.00001299999985
0.00000000000000
0.00000000000000
-0.00000999999975
-119.95198732998534
36.22787255997474
