0.00001299999985
0.00000000000000
0.00000000000000
-0.00000999999975
-119.95170000000354
36.22779999993108
