0.00001299999985
0.00000000000000
0.00000000000000
-0.00000999999975
-119.95172979998534
36.22784870997474
