0.00001299999985
0.00000000000000
0.00000000000000
-0.00000999999975
-119.95173700000353
36.22784999993108
