0.00001299999985
0.00000000000000
0.00000000000000
-0.00000999999975
-119.95173859000354
36.22785114993108
