0.00001299999985
0.00000000000000
0.00000000000000
-0.00000999999975
-119.95174032998536
36.22785255997474
