0.00001299999985
0.00000000000000
0.00000000000000
-0.00000999999975
-119.96099980998535
36.22796691997474
