0.00001299999985
0.00000000000000
0.00000000000000
-0.00000999999975
-119.96079739000353
36.22790012993108
