0.00001299999985
0.00000000000000
0.00000000000000
-0.00000999999975
-119.96080400000353
36.22789999993108
