0.00001299999985
0.00000000000000
0.00000000000000
-0.00000999999975
-119.96080392000354
36.22790127993108
