0.00001299999985
0.00000000000000
0.00000000000000
-0.00000999999975
-119.94280607998535
36.21938510997474
