0.00001299999985
0.00000000000000
0.00000000000000
-0.00000999999975
-119.94281442998535
36.21934531997474
