0.00001299999985
0.00000000000000
0.00000000000000
-0.00000999999975
-119.94272807998534
36.21915510997474
