0.00001299999985
0.00000000000000
0.00000000000000
-0.00000999999975
-119.94272342998535
36.21915531997474
