0.00001299999985
0.00000000000000
0.00000000000000
-0.00000999999975
-119.94272674998535
36.21915533997474
