0.00001299999985
0.00000000000000
0.00000000000000
-0.00000999999975
-119.93401199998534
36.21924999997474
