0.00001299999985
0.00000000000000
0.00000000000000
-0.00000999999975
-119.93390843998534
36.21928105997474
