0.00001299999985
0.00000000000000
0.00000000000000
-0.00000999999975
-119.93391300000354
36.21928999993109
