0.00001299999985
0.00000000000000
0.00000000000000
-0.00000999999975
-119.93406847998534
36.22776316997474
