0.00001299999985
0.00000000000000
0.00000000000000
-0.00000999999975
-119.93407886998536
36.22775235997474
