0.00001299999985
0.00000000000000
0.00000000000000
-0.00000999999975
-119.93374086998534
36.22773235997474
