0.00001299999985
0.00000000000000
0.00000000000000
-0.00000999999975
-119.93374015000354
36.22772872993108
