0.00001299999985
0.00000000000000
0.00000000000000
-0.00000999999975
-119.94309099998534
36.22783999997474
