0.00001299999985
0.00000000000000
0.00000000000000
-0.00000999999975
-119.94273039000353
36.22780330993108
