0.00001299999985
0.00000000000000
0.00000000000000
-0.00000999999975
-119.94277956998535
36.22781078997474
