0.00001299999985
0.00000000000000
0.00000000000000
-0.00000999999975
-119.94277237998534
36.22781121997474
