0.00001299999985
0.00000000000000
0.00000000000000
-0.00000999999975
-119.94278000000354
36.22780999993108
