0.00001299999985
0.00000000000000
0.00000000000000
-0.00000999999975
-119.92513900000354
36.21933999993108
