0.00001299999985
0.00000000000000
0.00000000000000
-0.00000999999975
-119.92520000000354
36.21899999993109
