0.00001299999985
0.00000000000000
0.00000000000000
-0.00000999999975
-119.92516800998536
36.21876173997474
