0.00001299999985
0.00000000000000
0.00000000000000
-0.00000999999975
-119.92490000000353
36.21919999993109
