0.00001299999985
0.00000000000000
0.00000000000000
-0.00000999999975
-119.92494239000354
36.21914274993108
