0.00001299999985
0.00000000000000
0.00000000000000
-0.00000999999975
-119.92493667000353
36.21913794993108
