0.00001299999985
0.00000000000000
0.00000000000000
-0.00000999999975
-119.92506999998535
36.22774999997474
