0.00001299999985
0.00000000000000
0.00000000000000
-0.00000999999975
-119.92493029998535
36.22773795997474
