0.00001299999985
0.00000000000000
0.00000000000000
-0.00000999999975
-119.93373299998535
36.24244999997474
