0.00001299999985
0.00000000000000
0.00000000000000
-0.00000999999975
-119.93388099998535
36.24226999997474
